BEGIN:VCALENDAR
VERSION:2.0
PRODID:-//The Lehigh Conference of Churches - ECPv6.15.20//NONSGML v1.0//EN
CALSCALE:GREGORIAN
METHOD:PUBLISH
X-WR-CALNAME:The Lehigh Conference of Churches
X-ORIGINAL-URL:https://lehighchurches.org
X-WR-CALDESC:Events for The Lehigh Conference of Churches
REFRESH-INTERVAL;VALUE=DURATION:PT1H
X-Robots-Tag:noindex
X-PUBLISHED-TTL:PT1H
BEGIN:VTIMEZONE
TZID:America/New_York
BEGIN:DAYLIGHT
TZOFFSETFROM:-0500
TZOFFSETTO:-0400
TZNAME:EDT
DTSTART:20240310T070000
END:DAYLIGHT
BEGIN:STANDARD
TZOFFSETFROM:-0400
TZOFFSETTO:-0500
TZNAME:EST
DTSTART:20241103T060000
END:STANDARD
BEGIN:DAYLIGHT
TZOFFSETFROM:-0500
TZOFFSETTO:-0400
TZNAME:EDT
DTSTART:20250309T070000
END:DAYLIGHT
BEGIN:STANDARD
TZOFFSETFROM:-0400
TZOFFSETTO:-0500
TZNAME:EST
DTSTART:20251102T060000
END:STANDARD
BEGIN:DAYLIGHT
TZOFFSETFROM:-0500
TZOFFSETTO:-0400
TZNAME:EDT
DTSTART:20260308T070000
END:DAYLIGHT
BEGIN:STANDARD
TZOFFSETFROM:-0400
TZOFFSETTO:-0500
TZNAME:EST
DTSTART:20261101T060000
END:STANDARD
END:VTIMEZONE
BEGIN:VEVENT
DTSTART;TZID=America/New_York:20251125T190000
DTEND;TZID=America/New_York:20251125T210000
DTSTAMP:20260425T102850
CREATED:20251105T141239Z
LAST-MODIFIED:20251110T135908Z
UID:1826-1764097200-1764104400@lehighchurches.org
SUMMARY:Interfaith Thanksgiving Service\, "Embracing the Stranger\, Give Thanks and Provide"
DESCRIPTION:Interfaith Thanksgiving Service\, “Embracing the Stranger\, Give Thanks and Provide”  \nTuesday\, November 25\, 7:00 p.m.\, hosted by the Episcopal Church of the Mediator and Refugee Community Center\, 1620 W. Turner St.\, Allentown\, PA 18102. \n  \nParking is available at the Masonic Temple lot on Linden St. by 16th St. \n  \nEveryone is invited to bring non-perishable food items and/or monetary donations to support our neighbors who are hungry and/or homeless. Donations will go to the Allentown Ecumenical Food Bank and the Lehigh Conference of Churches. \n  \nA light dessert reception will follow\, and people are invited to bring something to share that reflects their tradition. (Please label as halal\, kosher\, vegetarian\, vegan\, etc.) \n  \nWe are creating an interfaith choir for the evening. More information will be available soon for those who would like to join.
URL:https://lehighchurches.org/event/interfaith-thanksgiving/
CATEGORIES:Ecumenical Events
ATTACH;FMTTYPE=image/png:https://lehighchurches.org/wp-content/uploads/2025/11/Interfaith-Thanksgiving-2025.png
END:VEVENT
END:VCALENDAR