BEGIN:VCALENDAR
VERSION:2.0
PRODID:-//The Lehigh Conference of Churches - ECPv6.15.20//NONSGML v1.0//EN
CALSCALE:GREGORIAN
METHOD:PUBLISH
X-WR-CALNAME:The Lehigh Conference of Churches
X-ORIGINAL-URL:https://lehighchurches.org
X-WR-CALDESC:Events for The Lehigh Conference of Churches
REFRESH-INTERVAL;VALUE=DURATION:PT1H
X-Robots-Tag:noindex
X-PUBLISHED-TTL:PT1H
BEGIN:VTIMEZONE
TZID:America/New_York
BEGIN:DAYLIGHT
TZOFFSETFROM:-0500
TZOFFSETTO:-0400
TZNAME:EDT
DTSTART:20210314T070000
END:DAYLIGHT
BEGIN:STANDARD
TZOFFSETFROM:-0400
TZOFFSETTO:-0500
TZNAME:EST
DTSTART:20211107T060000
END:STANDARD
BEGIN:DAYLIGHT
TZOFFSETFROM:-0500
TZOFFSETTO:-0400
TZNAME:EDT
DTSTART:20220313T070000
END:DAYLIGHT
BEGIN:STANDARD
TZOFFSETFROM:-0400
TZOFFSETTO:-0500
TZNAME:EST
DTSTART:20221106T060000
END:STANDARD
BEGIN:DAYLIGHT
TZOFFSETFROM:-0500
TZOFFSETTO:-0400
TZNAME:EDT
DTSTART:20230312T070000
END:DAYLIGHT
BEGIN:STANDARD
TZOFFSETFROM:-0400
TZOFFSETTO:-0500
TZNAME:EST
DTSTART:20231105T060000
END:STANDARD
BEGIN:DAYLIGHT
TZOFFSETFROM:-0500
TZOFFSETTO:-0400
TZNAME:EDT
DTSTART:20240310T070000
END:DAYLIGHT
BEGIN:STANDARD
TZOFFSETFROM:-0400
TZOFFSETTO:-0500
TZNAME:EST
DTSTART:20241103T060000
END:STANDARD
BEGIN:DAYLIGHT
TZOFFSETFROM:-0500
TZOFFSETTO:-0400
TZNAME:EDT
DTSTART:20250309T070000
END:DAYLIGHT
BEGIN:STANDARD
TZOFFSETFROM:-0400
TZOFFSETTO:-0500
TZNAME:EST
DTSTART:20251102T060000
END:STANDARD
END:VTIMEZONE
BEGIN:VTIMEZONE
TZID:UTC
BEGIN:STANDARD
TZOFFSETFROM:+0000
TZOFFSETTO:+0000
TZNAME:UTC
DTSTART:20210101T000000
END:STANDARD
END:VTIMEZONE
BEGIN:VEVENT
DTSTART;TZID=America/New_York:20240601T090000
DTEND;TZID=America/New_York:20240601T170000
DTSTAMP:20260425T074923
CREATED:20220721T143536Z
LAST-MODIFIED:20240301T131646Z
UID:491-1717232400-1717261200@lehighchurches.org
SUMMARY:2024 Nazareth Adult Soap Box Racing Association
DESCRIPTION:  \nOn the 1st Saturday of June\, race teams gather on West Prospect Street in Nazareth to satisfy their need for speed. This is not your typical Boy Scout event. Anything from coffins to modified shopping carts is allowed. You build it\, you race it! (follow these rules and regulations) \nThis year\, racers are competing for speed\, as well as “show.” More trophies are up for grabs! \nRegistration begins on January 1\, 2024\, and ends on May 18\, 2024\, unless the max of 54 registered cars is achieved. There is a $45 registration fee that increases to $60 on March 1\, 2024. \nPractice runs from 9 a.m. to 11 a.m. on race day with the race starting at noon. Double elimination will decide the winners. All team members must sign a waiver on race day to participate. \nNASBRA is run by the Lehigh Conference of Churches since 2022. Proceeds benefit the homeless and homeless prevention. www.lehighchurches.org. \n\nNASBRA General Information \nRace Day Registration\, Register Here \nNASBRA Flyer\, NASBRA Official Flyer  \nNASBRA Rules and Regulations\, (Official rules and regulations.) \nNASBRA Waiver\, Please review and complete the waiver (Click Here) \nSponsorship Opportunites \nSupport NASBRA and Become a Sponsor\, Click Here \nSponsorship Details\, Click Here
URL:https://lehighchurches.org/event/nasbra/
LOCATION:W. Prospect Street\, Nazareth PA
CATEGORIES:Community Events
ATTACH;FMTTYPE=image/jpeg:https://lehighchurches.org/wp-content/uploads/2024/03/2024-flyer-scaled.jpg
ORGANIZER;CN="Christine Rinker":MAILTO:info@lehighchurches.org
END:VEVENT
BEGIN:VEVENT
DTSTART;TZID=America/New_York:20231112T080000
DTEND;TZID=America/New_York:20231119T080000
DTSTAMP:20260425T074923
CREATED:20230724T143051Z
LAST-MODIFIED:20230914T154241Z
UID:805-1699776000-1700380800@lehighchurches.org
SUMMARY:Hunger & Homelessness Awareness Week 2023
DESCRIPTION:Hunger and Homelessness Awareness Week is back! \nClick the link to learn more about how you can get involved: www.lehighchurches.org/hhaweek
URL:https://lehighchurches.org/event/hunger-homelessness-awareness-week-2023/
CATEGORIES:Community Events,Ecumenical Events
ATTACH;FMTTYPE=image/jpeg:https://lehighchurches.org/wp-content/uploads/2023/08/HHA-Week-Flyer-2023-1.jpg
END:VEVENT
BEGIN:VEVENT
DTSTART;VALUE=DATE:20221112
DTEND;VALUE=DATE:20221121
DTSTAMP:20260425T074923
CREATED:20220712T155118Z
LAST-MODIFIED:20221118T202648Z
UID:476-1668211200-1668988799@lehighchurches.org
SUMMARY:Hunger & Homelessness Awareness Week
DESCRIPTION:Throughout this week of dialogue\, discussion\, games and culminating in a sleep-out event\, we hope you will have a better understanding of what it’s like to live in extreme poverty while raising money for The Lehigh Conference of Churches. All of the funds raised through this week-long event will be used to support people living in our community so we can continue to connect basic human needs to those in need of: food\, housing\, a sense of belonging\, and hope for the future. \nWorking together\, we can do more to help those hungry and homeless in our community. \nSupport The Lehigh Conference of Churches with a donation\, Donate Now \n\nH&HA Week Summary\nNovember 12th-13th \nKick Off: Uniting Faith Communities To End Hunger & Homelessness\, Kick Off Flyer \n\nNovember 14th \nKeynote Dinner featuring Matthew Desmond Following Community Forum\,  \nRegister for Community Forum/Keynote Dinner\, Register Today \n\nNovember 15th \nThe Official Brunch Boys Presents “Afternoon of Advocacy” Podcast / Sponsorship Mixer\, Podcast Flyer \nSponsorship Mixer (Sponsors Only)\, Register Today \n\nNovember 16th \nGame of Rent\, Game of Rent Flyer \nGame of Rent\, Lehigh Valley with Love Video \nGame of Rent Participant\, Register Today \n\nNovember 17th \nFaces of Homelessness Panel\, Panel Flyer \nZoom Link\, Register Today \n\nNovember 18th \nMoment of Silence – Prayer Vigil\, Vigil Flyer \n\nNovember 19th-20th \nOne Night Without a Home\, \nSign up to participate in One Night Without a Home\, Register Today \nONWAH Activity Booklet 2022\, Download Here \nONWAH Additional Resources\, Download Here \n\nSponsorship Opportunities \nSupport H&HA Week and Become a Sponsor\, https://secure.qgiv.com/for/shahaw2/ \nSponsorship Brochure: H&HA Sponsorship Brochure \nSponsorship Details: H&HA Sponsors Details \n 
URL:https://lehighchurches.org/event/hunger-homelessness-awareness-week/
CATEGORIES:Community Events
ATTACH;FMTTYPE=image/png:https://lehighchurches.org/wp-content/uploads/2022/07/HH-Awareness-Week-logo3-e1662653435330.png
END:VEVENT
BEGIN:VEVENT
DTSTART;TZID=America/New_York:20220723T100000
DTEND;TZID=America/New_York:20220723T140000
DTSTAMP:20260425T074923
CREATED:20220608T135502Z
LAST-MODIFIED:20220722T130922Z
UID:447-1658570400-1658584800@lehighchurches.org
SUMMARY:Drop-In Center Car Wash
DESCRIPTION:All proceeds benefit the Drop-in Center\, an accepting place for anyone in need of support\, advocacy\, a shower and a meal.
URL:https://lehighchurches.org/event/drop-in-center-car-wash/
LOCATION:Dubbs Memorial Community Center\, 457 W Allen Street\, Allentown\, PA\, 18102
CATEGORIES:Community Events
ATTACH;FMTTYPE=image/png:https://lehighchurches.org/wp-content/uploads/2022/06/car-wash-website-e1658495350913.png
ORGANIZER;CN="David Watson":MAILTO:dwatson@lehighchurches.org
END:VEVENT
BEGIN:VEVENT
DTSTART;TZID=America/New_York:20220617T110000
DTEND;TZID=America/New_York:20220617T140000
DTSTAMP:20260425T074923
CREATED:20220608T141438Z
LAST-MODIFIED:20220608T141438Z
UID:455-1655463600-1655474400@lehighchurches.org
SUMMARY:Celebrate Juneteenth
DESCRIPTION:Celebrate Juneteenth\, freedom day\, with food\, games and music. Everyone is welcome!
URL:https://lehighchurches.org/event/celebrate-juneteenth/
LOCATION:Dubbs Memorial Community Center\, 457 W Allen Street\, Allentown\, PA\, 18102
CATEGORIES:Community Events
ATTACH;FMTTYPE=image/png:https://lehighchurches.org/wp-content/uploads/2022/06/Juneteenth.png
ORGANIZER;CN="Genie Watson":MAILTO:gwatson@lehighchurches.org
END:VEVENT
BEGIN:VEVENT
DTSTART;TZID=America/New_York:20220517T113000
DTEND;TZID=America/New_York:20220517T133000
DTSTAMP:20260425T074923
CREATED:20220511T133431Z
LAST-MODIFIED:20220512T194746Z
UID:405-1652787000-1652794200@lehighchurches.org
SUMMARY:2021-22 Annual Meeting #BeLoud
DESCRIPTION:Hear Executive Director Abby Goldfarb speak about the many changes and challenges this past year. Development Officer Chris Moran will be showing us how the volunteers and donors have embraced #BeLoud. And our annual Ecumenical Award recipient will be announced. \nDoors open at 11:30\, with the lunch and program beginning at noon. We encourage all member churches to attend to have their vote counted for the business portion of the meeting. \n$15 for member churches\, and $20 for non-members. \nPlease register at https://secure.qgiv.com/for/20annuamee/ by May 13. Advance registration is requested. \n 
URL:https://lehighchurches.org/event/2021-22-annual-meeting-beloud/
LOCATION:The Barristers Club\, 1114 Walnut Street\, Allentown\, PA\, 18102\, United States
CATEGORIES:Community Events
ATTACH;FMTTYPE=image/jpeg:https://lehighchurches.org/wp-content/uploads/2022/05/BeLoud-cropped-2.jpg
ORGANIZER;CN="Genie Watson":MAILTO:gwatson@lehighchurches.org
END:VEVENT
BEGIN:VEVENT
DTSTART;VALUE=DATE:20220331
DTEND;VALUE=DATE:20220402
DTSTAMP:20260425T074923
CREATED:20220215T204957Z
LAST-MODIFIED:20220215T205717Z
UID:274-1648684800-1648857599@lehighchurches.org
SUMMARY:Robert K. Campbell Memorial Lecture Series on Christian Unity featuring David LaMotte
DESCRIPTION:What’s Mine to Do? \nJoin us for The Lehigh Conference of Churches’ Robert K. Campbell Memorial Lecture and dinner\, small group meeting\, and concert Thursday\, March 31 and Friday\, April 1\, featuring David LaMotte. \nIn the lecture on Thursday\, March 31 at DeSales University\, David will engage us in the question “What’s Mine To Do?” based on his book\, “Worldchanging 101: Challenging the Myth of Powerlessness.” In a world full of want and injustice\, how do we determine what is ours to do\, and what is not? With our inboxes overflowing with requests for support\, and our media outlets constantly reminding us of the worst news from around the world\, how do we remain buoyant enough to function? In a politically divided time\, how do we maintain our principles\, while healing broken relationships? David doesn’t claim to have answers to all of these questions\, but he will offer some fresh framework that may shed light on the struggles to live as people of conscience\, and to have the most positive impact that we can\, rooted in his own experience and historical examples. \nOn Friday morning\, April 1\, at The Lehigh Conference of Churches\, we invite interested individuals to further engage in a dialogue around Thursday’s lecture. \nFriday evening will feature a concert with the original music of David LaMotte at First Presbyterian Church of Allentown. \nMasks are required at all events regardless of vaccination status. \nAbout David LaMotte \nDavid is an award-winning songwriter\, speaker\, author\, and activist. Having released 12 full-length CDs of primarily original music\, and performed 3000 concerts on 5 continents\, he suspended his successful music career in 2008 to accept a Rotary World Peace Fellowship\, earning a master’s degree in International Studies\, Peace\, and Conflict Resolution from the University of Queensland in Brisbane\, Australia. \nHis dense speaking and workshop calendar has included presenting at the PC (USA) Mission to the United Nations\, keynoting peace conferences in Berlin and at the Scottish Parliament\, as well as offering the baccalaureate for 2016 graduates of Columbia Seminary. As a keynote speaker\, and then Critical Conversations Coordinator\, he has facilitated conversations about race\, privilege\, and positive change for thousands of college students at the Montreat College Conference. \nHis next book\, tentatively titled\, “Harmony: What Music Can Teach Us About Peace Work\,” is based on his TEDx talk. David is excited to be in the studio finishing up his 13th solo album\, “Still”. It’s due for release in late spring of 2022. Listen here to some of his songs. \nDavid lives in Black Mountain\, North Carolina\, with his wife\, newly teenaged son\, and six backyard chickens.” \nRegistration and payment link. \n\nEvent Schedule \nRegistration is required for all events. \n  \nLecture\, “What’s Mine To Do?” \nThursday\, March 31\, 5:45 p.m. registration\, 6 p.m. light dinner\, 7 p.m. lecture\, 8:30 p.m. coffee and dessert \n$10 lecture only; $20 lecture and dinner \nUniversity Center\, DeSales University\, 2755 Station Avenue\, Center Valley\, PA 18034 \nIf you are experiencing financial hardship that prohibits a ticket purchase\, please contact abrucker@lehighchurches.org. \n  \nCommunity Dialogue \nFriday\, April 1\, 10 a.m. \nDubbs Memorial Community Center\, 457 W. Allen Street\, Allentown\, PA 18102 \nThere is no charge for this event but registration is required. \n  \nConcert \nFriday\, April 1\, 7:30 p.m.\, doors open at 7 p.m. \nFirst Presbyterian of Allentown\, 3231 Tilghman Street\, Allentown\, PA 18104 \nThere is no charge for the event but registration is required. Seating is limited. There will be a free-will offering to benefit The Lehigh Conference of Churches. \nRegistration and payment link. \nDownload a flyer.
URL:https://lehighchurches.org/event/robert-k-campbell-memorial-lecture-series-on-christian-unity-featuring-david-lamotte/
CATEGORIES:Community Events,Ecumenical Events
ATTACH;FMTTYPE=image/jpeg:https://lehighchurches.org/wp-content/uploads/2022/02/image.jpeg
ORGANIZER;CN="Genie Watson":MAILTO:gwatson@lehighchurches.org
END:VEVENT
END:VCALENDAR